BEGIN:VCALENDAR
VERSION:2.0
PRODID:spatie/icalendar-generator
DESCRIPTION:Events from HCade
X-WR-CALDESC:Events from HCade
REFRESH-INTERVAL;VALUE=DURATION:PT1440M
X-PUBLISHED-TTL:PT1440M
BEGIN:VTIMEZONE
TZID:Etc/GMT+0
BEGIN:STANDARD
DTSTART:20250728T180000Z
TZOFFSETFROM:+0000
TZOFFSETTO:+0000
END:STANDARD
END:VTIMEZONE
BEGIN:VTIMEZONE
TZID:UTC
BEGIN:STANDARD
DTSTART:20250727T162059Z
TZOFFSETFROM:+0000
TZOFFSETTO:+0000
END:STANDARD
END:VTIMEZONE
BEGIN:VEVENT
UID:13-11
DTSTAMP:20260423T162059Z
SUMMARY:Spring Concert
LOCATION:
ORGANIZER;CN=mtz-admin:MAILTO:lakkijain.mediatrenz28@gmail.com
DTSTART;TZID=Etc/GMT+0:20260424T180000
DTEND;TZID=Etc/GMT+0:20260424T190000
X-ALT-DESC;FMTTYPE=TEXT/HTML:
CATEGORIES:General
URL;VALUE=URI:https://hcade.org/mc-events/spring-concert/
METHOD:PUBLISH
END:VEVENT
END:VCALENDAR