BEGIN:VCALENDAR
VERSION:2.0
PRODID:spatie/icalendar-generator
DESCRIPTION:Events from HCade
X-WR-CALDESC:Events from HCade
REFRESH-INTERVAL;VALUE=DURATION:PT1440M
X-PUBLISHED-TTL:PT1440M
BEGIN:VTIMEZONE
TZID:Etc/GMT+0
BEGIN:STANDARD
DTSTART:20250706T000000Z
TZOFFSETFROM:+0000
TZOFFSETTO:+0000
END:STANDARD
END:VTIMEZONE
BEGIN:VTIMEZONE
TZID:UTC
BEGIN:STANDARD
DTSTART:20250727T152504Z
TZOFFSETFROM:+0000
TZOFFSETTO:+0000
END:STANDARD
END:VTIMEZONE
BEGIN:VEVENT
UID:10-8
DTSTAMP:20260423T152504Z
SUMMARY:Autism Awareness Day: Wear blue socks
LOCATION:
ORGANIZER;CN=mtz-admin:MAILTO:lakkijain.mediatrenz28@gmail.com
DTSTART;TZID=Etc/GMT+0;VALUE=DATE:20260402
DTEND;TZID=Etc/GMT+0;VALUE=DATE:20260403
X-ALT-DESC;FMTTYPE=TEXT/HTML:Wear blue socks
CATEGORIES:General
URL;VALUE=URI:https://hcade.org/mc-events/autism-awareness-day-wear-blue-so
 cks/
METHOD:PUBLISH
END:VEVENT
END:VCALENDAR