BEGIN:VCALENDAR
VERSION:2.0
PRODID:spatie/icalendar-generator
DESCRIPTION:Events from HCade
X-WR-CALDESC:Events from HCade
REFRESH-INTERVAL;VALUE=DURATION:PT1440M
X-PUBLISHED-TTL:PT1440M
BEGIN:VTIMEZONE
TZID:Etc/GMT+0
BEGIN:STANDARD
DTSTART:20250710T000000Z
TZOFFSETFROM:+0000
TZOFFSETTO:+0000
END:STANDARD
END:VTIMEZONE
BEGIN:VTIMEZONE
TZID:UTC
BEGIN:STANDARD
DTSTART:20250727T151849Z
TZOFFSETFROM:+0000
TZOFFSETTO:+0000
END:STANDARD
END:VTIMEZONE
BEGIN:VEVENT
UID:12-10
DTSTAMP:20260423T151849Z
SUMMARY:Spring Break
LOCATION:
ORGANIZER;CN=mtz-admin:MAILTO:lakkijain.mediatrenz28@gmail.com
DTSTART;TZID=Etc/GMT+0;VALUE=DATE:20260406
DTEND;TZID=Etc/GMT+0;VALUE=DATE:20260411
X-ALT-DESC;FMTTYPE=TEXT/HTML:
CATEGORIES:No School
URL;VALUE=URI:https://hcade.org/mc-events/spring-break/
METHOD:PUBLISH
END:VEVENT
END:VCALENDAR